{
 "currentVersion": 10.91,
 "serviceDescription": "Servei de tessel·les del mapa de superposició del Consell de Mallorca",
 "mapName": "mapa",
 "description": "",
 "copyrightText": "© IDEmallorca. Consell de Mallorca",
 "supportsDynamicLayers": false,
 "layers": [
  {
   "id": 0,
   "name": "municipis200m",
   "parentLayerId": -1,
   "defaultVisibility": true,
   "subLayerIds": null,
   "minScale": 0,
   "maxScale": 0,
   "type": "Feature Layer",
   "geometryType": "esriGeometryPolygon"
  }
 ],
 "tables": [],
 "spatialReference": {
  "wkid": 25831,
  "latestWkid": 25831
 },
 "singleFusedMapCache": true,
 "tileInfo": {
  "rows": 512,
  "cols": 512,
  "dpi": 96,
  "format": "PNG",
  "compressionQuality": 0,
  "origin": {
   "x": 400000,
   "y": 4480000
  },
  "spatialReference": {
   "wkid": 25831,
   "latestWkid": 25831
  },
  "lods": [
   {
    "level": 0,
    "resolution": 211.66709000084668,
    "scale": 800000
   },
   {
    "level": 1,
    "resolution": 105.83354500042334,
    "scale": 400000
   },
   {
    "level": 2,
    "resolution": 52.91677250021167,
    "scale": 200000
   },
   {
    "level": 3,
    "resolution": 26.458386250105836,
    "scale": 100000
   },
   {
    "level": 4,
    "resolution": 13.229193125052918,
    "scale": 50000
   },
   {
    "level": 5,
    "resolution": 6.614596562526459,
    "scale": 25000
   },
   {
    "level": 6,
    "resolution": 5.291677250021167,
    "scale": 20000
   },
   {
    "level": 7,
    "resolution": 3.9687579375158752,
    "scale": 15000
   },
   {
    "level": 8,
    "resolution": 2.6458386250105836,
    "scale": 10000
   },
   {
    "level": 9,
    "resolution": 1.3229193125052918,
    "scale": 5000
   },
   {
    "level": 10,
    "resolution": 0.5291677250021167,
    "scale": 2000
   },
   {
    "level": 11,
    "resolution": 0.26458386250105836,
    "scale": 1000
   }
  ]
 },
 "initialExtent": {
  "xmin": 403566.0016551582,
  "ymin": 4356035.341469004,
  "xmax": 577611.3954448425,
  "ymax": 4429518.602809728,
  "spatialReference": {
   "wkid": 25831,
   "latestWkid": 25831
  }
 },
 "fullExtent": {
  "xmin": 440144.45270000026,
  "ymin": 4330655.4749,
  "xmax": 541032.9444000004,
  "ymax": 4423653.618100001,
  "spatialReference": {
   "wkid": 25831,
   "latestWkid": 25831
  }
 },
 "minScale": 800000,
 "maxScale": 1000,
 "units": "esriMeters",
 "supportedImageFormatTypes": "PNG32,PNG24,PNG,JPG,DIB,TIFF,EMF,PS,PDF,GIF,SVG,SVGZ,BMP",
 "documentInfo": {
  "Title": "Mapa superposició",
  "Author": "Servei d'Ordenació del Territori",
  "Comments": "Servei de tessel·les del mapa de superposició del Consell de Mallorca",
  "Subject": "Mapa superposició 2024",
  "Category": "",
  "AntialiasingMode": "None",
  "TextAntialiasingMode": "Force",
  "Keywords": "WMTS"
 },
 "capabilities": "Map,Tilemap",
 "supportedQueryFormats": "JSON, geoJSON",
 "exportTilesAllowed": false,
 "referenceScale": 0,
 "datumTransformations": [
  {
   "geoTransforms": [
    {
     "wkid": 108001,
     "latestWkid": 1241,
     "transformForward": true,
     "name": "NAD_1927_To_NAD_1983_NADCON"
    }
   ]
  },
  {
   "geoTransforms": [
    {
     "wkid": 108001,
     "latestWkid": 1241,
     "transformForward": false,
     "name": "NAD_1927_To_NAD_1983_NADCON"
    }
   ]
  },
  {
   "geoTransforms": [
    {
     "wkid": 1630,
     "latestWkid": 1630,
     "transformForward": true,
     "name": "ED_1950_To_ETRS_1989_6"
    }
   ]
  },
  {
   "geoTransforms": [
    {
     "wkid": 1630,
     "latestWkid": 1630,
     "transformForward": false,
     "name": "ED_1950_To_ETRS_1989_6"
    }
   ]
  },
  {
   "geoTransforms": [
    {
     "wkid": 1149,
     "latestWkid": 1149,
     "transformForward": true,
     "name": "ETRS_1989_To_WGS_1984"
    }
   ]
  },
  {
   "geoTransforms": [
    {
     "wkid": 1149,
     "latestWkid": 1149,
     "transformForward": false,
     "name": "ETRS_1989_To_WGS_1984"
    }
   ]
  }
 ],
 "supportsDatumTransformation": true,
 "maxRecordCount": 1000,
 "maxImageHeight": 4096,
 "maxImageWidth": 4096,
 "supportedExtensions": "",
 "serviceItemId": "f620db4e783a4d7890da906fa5d1a479"
}
